BEGIN:VCALENDAR
VERSION:2.0
PRODID:-//Purdue Innovates - ECPv6.15.19//NONSGML v1.0//EN
CALSCALE:GREGORIAN
METHOD:PUBLISH
X-ORIGINAL-URL:https://purdueinnovates.org
X-WR-CALDESC:Events for Purdue Innovates
REFRESH-INTERVAL;VALUE=DURATION:PT1H
X-Robots-Tag:noindex
X-PUBLISHED-TTL:PT1H
BEGIN:VTIMEZONE
TZID:America/Indiana/Indianapolis
BEGIN:DAYLIGHT
TZOFFSETFROM:-0500
TZOFFSETTO:-0400
TZNAME:EDT
DTSTART:20250309T070000
END:DAYLIGHT
BEGIN:STANDARD
TZOFFSETFROM:-0400
TZOFFSETTO:-0500
TZNAME:EST
DTSTART:20251102T060000
END:STANDARD
BEGIN:DAYLIGHT
TZOFFSETFROM:-0500
TZOFFSETTO:-0400
TZNAME:EDT
DTSTART:20260308T070000
END:DAYLIGHT
BEGIN:STANDARD
TZOFFSETFROM:-0400
TZOFFSETTO:-0500
TZNAME:EST
DTSTART:20261101T060000
END:STANDARD
BEGIN:DAYLIGHT
TZOFFSETFROM:-0500
TZOFFSETTO:-0400
TZNAME:EDT
DTSTART:20270314T070000
END:DAYLIGHT
BEGIN:STANDARD
TZOFFSETFROM:-0400
TZOFFSETTO:-0500
TZNAME:EST
DTSTART:20271107T060000
END:STANDARD
END:VTIMEZONE
BEGIN:VEVENT
DTSTART;VALUE=DATE:20260216
DTEND;VALUE=DATE:20260302
DTSTAMP:20260421T041917
CREATED:20251117T150259Z
LAST-MODIFIED:20251117T194127Z
UID:10000009-1771200000-1772409599@purdueinnovates.org
SUMMARY:Market Readiness Applications Open
DESCRIPTION:By the end of this program\, participants will: \n\nDevelop a clearly defined product\, customer\, and value proposition.\nBuild out financial projections and milestones.\nConduct weekly customer discovery interviews.\n\nAll teams will leave the program with a finalized executive summary and pitch deck.
URL:https://purdueinnovates.org/event/market-readiness-applications-open/
LOCATION:The Convergence Center for Innovation and Collaboration\, 101 Foundry Dr\, West Lafayette\, IN\, 47906\, United States
CATEGORIES:Market Readiness
ORGANIZER;CN="Purdue Innovates Incubator":MAILTO:purdueinnovates@prf.org
END:VEVENT
BEGIN:VEVENT
DTSTART;TZID=America/Indiana/Indianapolis:20260224T090000
DTEND;TZID=America/Indiana/Indianapolis:20260224T120000
DTSTAMP:20260421T041917
CREATED:20260105T173621Z
LAST-MODIFIED:20260105T174355Z
UID:10000030-1771923600-1771934400@purdueinnovates.org
SUMMARY:Firestarter Virtual Cohort
DESCRIPTION:By the end of this program\, participants will: \n\nFind your product market fit.\nLearn to communicate ideas effectively to customers.\nExplore ways to de-risk your startup.\n\nAll teams will leave the program with a finalized pitch deck and extensive feedback.
URL:https://purdueinnovates.org/event/firestarter-virtual-cohort/2026-02-24/
LOCATION:The Convergence Center for Innovation and Collaboration\, 101 Foundry Dr\, West Lafayette\, IN\, 47906\, United States
CATEGORIES:Firestarter
ORGANIZER;CN="Purdue Innovates Incubator":MAILTO:purdueinnovates@prf.org
END:VEVENT
BEGIN:VEVENT
DTSTART;TZID=America/Indiana/Indianapolis:20260224T130000
DTEND;TZID=America/Indiana/Indianapolis:20260224T160000
DTSTAMP:20260421T041917
CREATED:20260105T174349Z
LAST-MODIFIED:20260105T174723Z
UID:10000052-1771938000-1771948800@purdueinnovates.org
SUMMARY:Firestarter In-person Cohort
DESCRIPTION:By the end of this program\, participants will: \n\nFind your product market fit.\nLearn to communicate ideas effectively to customers.\nExplore ways to de-risk your startup.\n\nAll teams will leave the program with a finalized pitch deck and extensive feedback.
URL:https://purdueinnovates.org/event/firestarter-in-person-cohort/2026-02-24/
LOCATION:The Convergence Center for Innovation and Collaboration\, 101 Foundry Dr\, West Lafayette\, IN\, 47906\, United States
CATEGORIES:Firestarter
ORGANIZER;CN="Purdue Innovates Incubator":MAILTO:purdueinnovates@prf.org
END:VEVENT
END:VCALENDAR