BEGIN:VCALENDAR
VERSION:2.0
PRODID:-//Purdue Innovates - ECPv6.15.19//NONSGML v1.0//EN
CALSCALE:GREGORIAN
METHOD:PUBLISH
X-WR-CALNAME:Purdue Innovates
X-ORIGINAL-URL:https://purdueinnovates.org
X-WR-CALDESC:Events for Purdue Innovates
REFRESH-INTERVAL;VALUE=DURATION:PT1H
X-Robots-Tag:noindex
X-PUBLISHED-TTL:PT1H
BEGIN:VTIMEZONE
TZID:America/Indiana/Indianapolis
BEGIN:DAYLIGHT
TZOFFSETFROM:-0500
TZOFFSETTO:-0400
TZNAME:EDT
DTSTART:20250309T070000
END:DAYLIGHT
BEGIN:STANDARD
TZOFFSETFROM:-0400
TZOFFSETTO:-0500
TZNAME:EST
DTSTART:20251102T060000
END:STANDARD
BEGIN:DAYLIGHT
TZOFFSETFROM:-0500
TZOFFSETTO:-0400
TZNAME:EDT
DTSTART:20260308T070000
END:DAYLIGHT
BEGIN:STANDARD
TZOFFSETFROM:-0400
TZOFFSETTO:-0500
TZNAME:EST
DTSTART:20261101T060000
END:STANDARD
BEGIN:DAYLIGHT
TZOFFSETFROM:-0500
TZOFFSETTO:-0400
TZNAME:EDT
DTSTART:20270314T070000
END:DAYLIGHT
BEGIN:STANDARD
TZOFFSETFROM:-0400
TZOFFSETTO:-0500
TZNAME:EST
DTSTART:20271107T060000
END:STANDARD
END:VTIMEZONE
BEGIN:VEVENT
DTSTART;TZID=America/Indiana/Indianapolis:20260409T100000
DTEND;TZID=America/Indiana/Indianapolis:20260409T130000
DTSTAMP:20260421T053402
CREATED:20260216T140713Z
LAST-MODIFIED:20260216T140737Z
UID:10000069-1775728800-1775739600@purdueinnovates.org
SUMMARY:Market Readiness Workshop
DESCRIPTION:By the end of this program\, participants will: \n\nDevelop a clearly defined product\, customer\, and value proposition.\nBuild out financial projections and milestones.\nConduct weekly customer discovery interviews.\n\nAll teams will leave the program with a finalized executive summary and pitch deck.
URL:https://purdueinnovates.org/event/market-readiness-workshops/2026-04-09/
LOCATION:The Convergence Center for Innovation and Collaboration\, 101 Foundry Dr\, West Lafayette\, IN\, 47906\, United States
CATEGORIES:Market Readiness
ORGANIZER;CN="Purdue Innovates Incubator":MAILTO:purdueinnovates@prf.org
END:VEVENT
BEGIN:VEVENT
DTSTART;TZID=America/Indiana/Indianapolis:20260409T180000
DTEND;TZID=America/Indiana/Indianapolis:20260409T200000
DTSTAMP:20260421T053402
CREATED:20260105T183847Z
LAST-MODIFIED:20260105T183847Z
UID:10000064-1775757600-1775764800@purdueinnovates.org
SUMMARY:New Venture Challenge Workshop
DESCRIPTION:The New Venture Challenge (NVC) helps prepare Purdue student startups for market entry and fundraising. At the end of the four-workshop series\, participants will pitch to a room of investors at the annual Purdue Innovates Startup and Technology Expo. \nBy the end of NVC\, participants will: \n\nCraft a solid value proposition.\nDevelop their go-to-market strategy.\nBuild out a finance model compelling to investors.\n\nAll teams will leave the program with a finalized pitch deck\, executive summary\, and a chance to pitch for cash prizes.
URL:https://purdueinnovates.org/event/new-venture-challenge-workshop-7/2026-04-09/
LOCATION:The Convergence Center for Innovation and Collaboration\, 101 Foundry Dr\, West Lafayette\, IN\, 47906\, United States
CATEGORIES:New Venture Challenge
ORGANIZER;CN="Purdue Innovates Incubator":MAILTO:purdueinnovates@prf.org
END:VEVENT
BEGIN:VEVENT
DTSTART;TZID=America/Indiana/Indianapolis:20260409T180000
DTEND;TZID=America/Indiana/Indianapolis:20260409T210000
DTSTAMP:20260421T053402
CREATED:20260105T183537Z
LAST-MODIFIED:20260105T183537Z
UID:10000058-1775757600-1775768400@purdueinnovates.org
SUMMARY:New Venture Challenge In-person Mentor Session
DESCRIPTION:The New Venture Challenge (NVC) helps prepare Purdue student startups for market entry and fundraising. At the end of the four-workshop series\, participants will pitch to a room of investors at the annual Purdue Innovates Startup and Technology Expo. \nBy the end of NVC\, participants will: \n\nCraft a solid value proposition.\nDevelop their go-to-market strategy.\nBuild out a finance model compelling to investors.\n\nAll teams will leave the program with a finalized pitch deck\, executive summary\, and a chance to pitch for cash prizes.
URL:https://purdueinnovates.org/event/new-venture-challenge-in-person-mentor-session/
LOCATION:The Convergence Center for Innovation and Collaboration\, 101 Foundry Dr\, West Lafayette\, IN\, 47906\, United States
CATEGORIES:New Venture Challenge
ORGANIZER;CN="Purdue Innovates Incubator":MAILTO:purdueinnovates@prf.org
END:VEVENT
END:VCALENDAR