BEGIN:VCALENDAR
VERSION:2.0
PRODID:-//Purdue Innovates - ECPv6.15.19//NONSGML v1.0//EN
CALSCALE:GREGORIAN
METHOD:PUBLISH
X-ORIGINAL-URL:https://purdueinnovates.org
X-WR-CALDESC:Events for Purdue Innovates
REFRESH-INTERVAL;VALUE=DURATION:PT1H
X-Robots-Tag:noindex
X-PUBLISHED-TTL:PT1H
BEGIN:VTIMEZONE
TZID:America/Indiana/Indianapolis
BEGIN:DAYLIGHT
TZOFFSETFROM:-0500
TZOFFSETTO:-0400
TZNAME:EDT
DTSTART:20240310T070000
END:DAYLIGHT
BEGIN:STANDARD
TZOFFSETFROM:-0400
TZOFFSETTO:-0500
TZNAME:EST
DTSTART:20241103T060000
END:STANDARD
BEGIN:DAYLIGHT
TZOFFSETFROM:-0500
TZOFFSETTO:-0400
TZNAME:EDT
DTSTART:20250309T070000
END:DAYLIGHT
BEGIN:STANDARD
TZOFFSETFROM:-0400
TZOFFSETTO:-0500
TZNAME:EST
DTSTART:20251102T060000
END:STANDARD
BEGIN:DAYLIGHT
TZOFFSETFROM:-0500
TZOFFSETTO:-0400
TZNAME:EDT
DTSTART:20260308T070000
END:DAYLIGHT
BEGIN:STANDARD
TZOFFSETFROM:-0400
TZOFFSETTO:-0500
TZNAME:EST
DTSTART:20261101T060000
END:STANDARD
END:VTIMEZONE
BEGIN:VEVENT
DTSTART;TZID=America/Indiana/Indianapolis:20251111T090000
DTEND;TZID=America/Indiana/Indianapolis:20251111T120000
DTSTAMP:20260423T044720
CREATED:20251117T145454Z
LAST-MODIFIED:20251117T194128Z
UID:10000005-1762851600-1762862400@purdueinnovates.org
SUMMARY:Market Readiness Workshop
DESCRIPTION:By the end of this program\, participants will: \n\nDevelop a clearly defined product\, customer\, and value proposition.\nBuild out financial projections and milestones.\nConduct weekly customer discovery interviews.\n\nAll teams will leave the program with a finalized executive summary and pitch deck.
URL:https://purdueinnovates.org/event/market-readiness-workshop-2/
LOCATION:The Convergence Center for Innovation and Collaboration\, 101 Foundry Dr\, West Lafayette\, IN\, 47906\, United States
CATEGORIES:Market Readiness
ORGANIZER;CN="Purdue Innovates Incubator":MAILTO:purdueinnovates@prf.org
END:VEVENT
BEGIN:VEVENT
DTSTART;TZID=America/Indiana/Indianapolis:20251104T090000
DTEND;TZID=America/Indiana/Indianapolis:20251104T120000
DTSTAMP:20260423T044720
CREATED:20251029T180351Z
LAST-MODIFIED:20251117T194128Z
UID:10000002-1762246800-1762257600@purdueinnovates.org
SUMMARY:Market Readiness Workshop
DESCRIPTION:By the end of this program\, participants will: \n\nDevelop a clearly defined product\, customer\, and value proposition.\nBuild out financial projections and milestones.\nConduct weekly customer discovery interviews.\n\nAll teams will leave the program with a finalized executive summary and pitch deck.
URL:https://purdueinnovates.org/event/market-readiness-workshop/
LOCATION:The Convergence Center for Innovation and Collaboration\, 101 Foundry Dr\, West Lafayette\, IN\, 47906\, United States
CATEGORIES:Market Readiness
ORGANIZER;CN="Purdue Innovates Incubator":MAILTO:purdueinnovates@prf.org
END:VEVENT
END:VCALENDAR