BEGIN:VCALENDAR
VERSION:2.0
PRODID:-//Purdue Innovates - ECPv6.15.19//NONSGML v1.0//EN
CALSCALE:GREGORIAN
METHOD:PUBLISH
X-ORIGINAL-URL:https://purdueinnovates.org
X-WR-CALDESC:Events for Purdue Innovates
REFRESH-INTERVAL;VALUE=DURATION:PT1H
X-Robots-Tag:noindex
X-PUBLISHED-TTL:PT1H
BEGIN:VTIMEZONE
TZID:America/Indiana/Indianapolis
BEGIN:DAYLIGHT
TZOFFSETFROM:-0500
TZOFFSETTO:-0400
TZNAME:EDT
DTSTART:20240310T070000
END:DAYLIGHT
BEGIN:STANDARD
TZOFFSETFROM:-0400
TZOFFSETTO:-0500
TZNAME:EST
DTSTART:20241103T060000
END:STANDARD
BEGIN:DAYLIGHT
TZOFFSETFROM:-0500
TZOFFSETTO:-0400
TZNAME:EDT
DTSTART:20250309T070000
END:DAYLIGHT
BEGIN:STANDARD
TZOFFSETFROM:-0400
TZOFFSETTO:-0500
TZNAME:EST
DTSTART:20251102T060000
END:STANDARD
BEGIN:DAYLIGHT
TZOFFSETFROM:-0500
TZOFFSETTO:-0400
TZNAME:EDT
DTSTART:20260308T070000
END:DAYLIGHT
BEGIN:STANDARD
TZOFFSETFROM:-0400
TZOFFSETTO:-0500
TZNAME:EST
DTSTART:20261101T060000
END:STANDARD
BEGIN:DAYLIGHT
TZOFFSETFROM:-0500
TZOFFSETTO:-0400
TZNAME:EDT
DTSTART:20270314T070000
END:DAYLIGHT
BEGIN:STANDARD
TZOFFSETFROM:-0400
TZOFFSETTO:-0500
TZNAME:EST
DTSTART:20271107T060000
END:STANDARD
END:VTIMEZONE
BEGIN:VEVENT
DTSTART;TZID=America/Indiana/Indianapolis:20260414T170000
DTEND;TZID=America/Indiana/Indianapolis:20260414T200000
DTSTAMP:20260423T044041
CREATED:20251117T152028Z
LAST-MODIFIED:20251117T194025Z
UID:10000023-1776186000-1776196800@purdueinnovates.org
SUMMARY:New Venture Challenge Semi Finals Pitch
DESCRIPTION:The New Venture Challenge (NVC) helps prepare Purdue student startups for market entry and fundraising. At the end of the four-workshop series\, participants will pitch to a room of investors at the annual Purdue Innovates Startup and Technology Expo. \nBy the end of NVC\, participants will: \n\nCraft a solid value proposition.\nDevelop their go-to-market strategy.\nBuild out a finance model compelling to investors.\n\nAll teams will leave the program with a finalized pitch deck\, executive summary\, and a chance to pitch for cash prizes.
URL:https://purdueinnovates.org/event/new-venture-challenge-semi-finals-pitch/
LOCATION:The Convergence Center for Innovation and Collaboration\, 101 Foundry Dr\, West Lafayette\, IN\, 47906\, United States
CATEGORIES:New Venture Challenge
ORGANIZER;CN="Purdue Innovates Incubator":MAILTO:purdueinnovates@prf.org
END:VEVENT
BEGIN:VEVENT
DTSTART;TZID=America/Indiana/Indianapolis:20260409T180000
DTEND;TZID=America/Indiana/Indianapolis:20260409T210000
DTSTAMP:20260423T044041
CREATED:20260105T183537Z
LAST-MODIFIED:20260105T183537Z
UID:10000058-1775757600-1775768400@purdueinnovates.org
SUMMARY:New Venture Challenge In-person Mentor Session
DESCRIPTION:The New Venture Challenge (NVC) helps prepare Purdue student startups for market entry and fundraising. At the end of the four-workshop series\, participants will pitch to a room of investors at the annual Purdue Innovates Startup and Technology Expo. \nBy the end of NVC\, participants will: \n\nCraft a solid value proposition.\nDevelop their go-to-market strategy.\nBuild out a finance model compelling to investors.\n\nAll teams will leave the program with a finalized pitch deck\, executive summary\, and a chance to pitch for cash prizes.
URL:https://purdueinnovates.org/event/new-venture-challenge-in-person-mentor-session/
LOCATION:The Convergence Center for Innovation and Collaboration\, 101 Foundry Dr\, West Lafayette\, IN\, 47906\, United States
CATEGORIES:New Venture Challenge
ORGANIZER;CN="Purdue Innovates Incubator":MAILTO:purdueinnovates@prf.org
END:VEVENT
BEGIN:VEVENT
DTSTART;TZID=America/Indiana/Indianapolis:20260409T180000
DTEND;TZID=America/Indiana/Indianapolis:20260409T200000
DTSTAMP:20260423T044041
CREATED:20260105T183847Z
LAST-MODIFIED:20260105T183847Z
UID:10000064-1775757600-1775764800@purdueinnovates.org
SUMMARY:New Venture Challenge Workshop
DESCRIPTION:The New Venture Challenge (NVC) helps prepare Purdue student startups for market entry and fundraising. At the end of the four-workshop series\, participants will pitch to a room of investors at the annual Purdue Innovates Startup and Technology Expo. \nBy the end of NVC\, participants will: \n\nCraft a solid value proposition.\nDevelop their go-to-market strategy.\nBuild out a finance model compelling to investors.\n\nAll teams will leave the program with a finalized pitch deck\, executive summary\, and a chance to pitch for cash prizes.
URL:https://purdueinnovates.org/event/new-venture-challenge-workshop-7/2026-04-09/
LOCATION:The Convergence Center for Innovation and Collaboration\, 101 Foundry Dr\, West Lafayette\, IN\, 47906\, United States
CATEGORIES:New Venture Challenge
ORGANIZER;CN="Purdue Innovates Incubator":MAILTO:purdueinnovates@prf.org
END:VEVENT
BEGIN:VEVENT
DTSTART;TZID=America/Indiana/Indianapolis:20260326T180000
DTEND;TZID=America/Indiana/Indianapolis:20260326T200000
DTSTAMP:20260423T044041
CREATED:20260105T183847Z
LAST-MODIFIED:20260105T183847Z
UID:10000063-1774548000-1774555200@purdueinnovates.org
SUMMARY:New Venture Challenge Workshop
DESCRIPTION:The New Venture Challenge (NVC) helps prepare Purdue student startups for market entry and fundraising. At the end of the four-workshop series\, participants will pitch to a room of investors at the annual Purdue Innovates Startup and Technology Expo. \nBy the end of NVC\, participants will: \n\nCraft a solid value proposition.\nDevelop their go-to-market strategy.\nBuild out a finance model compelling to investors.\n\nAll teams will leave the program with a finalized pitch deck\, executive summary\, and a chance to pitch for cash prizes.
URL:https://purdueinnovates.org/event/new-venture-challenge-workshop-7/2026-03-26/
LOCATION:The Convergence Center for Innovation and Collaboration\, 101 Foundry Dr\, West Lafayette\, IN\, 47906\, United States
CATEGORIES:New Venture Challenge
ORGANIZER;CN="Purdue Innovates Incubator":MAILTO:purdueinnovates@prf.org
END:VEVENT
BEGIN:VEVENT
DTSTART;TZID=America/Indiana/Indianapolis:20260312T180000
DTEND;TZID=America/Indiana/Indianapolis:20260312T200000
DTSTAMP:20260423T044041
CREATED:20260105T183847Z
LAST-MODIFIED:20260105T183847Z
UID:10000062-1773338400-1773345600@purdueinnovates.org
SUMMARY:New Venture Challenge Workshop
DESCRIPTION:The New Venture Challenge (NVC) helps prepare Purdue student startups for market entry and fundraising. At the end of the four-workshop series\, participants will pitch to a room of investors at the annual Purdue Innovates Startup and Technology Expo. \nBy the end of NVC\, participants will: \n\nCraft a solid value proposition.\nDevelop their go-to-market strategy.\nBuild out a finance model compelling to investors.\n\nAll teams will leave the program with a finalized pitch deck\, executive summary\, and a chance to pitch for cash prizes.
URL:https://purdueinnovates.org/event/new-venture-challenge-workshop-7/2026-03-12/
LOCATION:The Convergence Center for Innovation and Collaboration\, 101 Foundry Dr\, West Lafayette\, IN\, 47906\, United States
CATEGORIES:New Venture Challenge
ORGANIZER;CN="Purdue Innovates Incubator":MAILTO:purdueinnovates@prf.org
END:VEVENT
BEGIN:VEVENT
DTSTART;TZID=America/Indiana/Indianapolis:20260305T180000
DTEND;TZID=America/Indiana/Indianapolis:20260305T210000
DTSTAMP:20260423T044041
CREATED:20260105T183425Z
LAST-MODIFIED:20260105T183425Z
UID:10000057-1772733600-1772744400@purdueinnovates.org
SUMMARY:New Venture Challenge Virtual Mentor Session
DESCRIPTION:The New Venture Challenge (NVC) helps prepare Purdue student startups for market entry and fundraising. At the end of the four-workshop series\, participants will pitch to a room of investors at the annual Purdue Innovates Startup and Technology Expo. \nBy the end of NVC\, participants will: \n\nCraft a solid value proposition.\nDevelop their go-to-market strategy.\nBuild out a finance model compelling to investors.\n\nAll teams will leave the program with a finalized pitch deck\, executive summary\, and a chance to pitch for cash prizes.
URL:https://purdueinnovates.org/event/new-venture-challenge-virtual-mentor-session/
LOCATION:The Convergence Center for Innovation and Collaboration\, 101 Foundry Dr\, West Lafayette\, IN\, 47906\, United States
CATEGORIES:New Venture Challenge
ORGANIZER;CN="Purdue Innovates Incubator":MAILTO:purdueinnovates@prf.org
END:VEVENT
BEGIN:VEVENT
DTSTART;TZID=America/Indiana/Indianapolis:20260226T180000
DTEND;TZID=America/Indiana/Indianapolis:20260226T200000
DTSTAMP:20260423T044041
CREATED:20260105T183847Z
LAST-MODIFIED:20260105T183847Z
UID:10000061-1772128800-1772136000@purdueinnovates.org
SUMMARY:New Venture Challenge Workshop
DESCRIPTION:The New Venture Challenge (NVC) helps prepare Purdue student startups for market entry and fundraising. At the end of the four-workshop series\, participants will pitch to a room of investors at the annual Purdue Innovates Startup and Technology Expo. \nBy the end of NVC\, participants will: \n\nCraft a solid value proposition.\nDevelop their go-to-market strategy.\nBuild out a finance model compelling to investors.\n\nAll teams will leave the program with a finalized pitch deck\, executive summary\, and a chance to pitch for cash prizes.
URL:https://purdueinnovates.org/event/new-venture-challenge-workshop-7/2026-02-26/
LOCATION:The Convergence Center for Innovation and Collaboration\, 101 Foundry Dr\, West Lafayette\, IN\, 47906\, United States
CATEGORIES:New Venture Challenge
ORGANIZER;CN="Purdue Innovates Incubator":MAILTO:purdueinnovates@prf.org
END:VEVENT
BEGIN:VEVENT
DTSTART;TZID=America/Indiana/Indianapolis:20260212T180000
DTEND;TZID=America/Indiana/Indianapolis:20260212T200000
DTSTAMP:20260423T044041
CREATED:20260105T183847Z
LAST-MODIFIED:20260105T183847Z
UID:10000060-1770919200-1770926400@purdueinnovates.org
SUMMARY:New Venture Challenge Workshop
DESCRIPTION:The New Venture Challenge (NVC) helps prepare Purdue student startups for market entry and fundraising. At the end of the four-workshop series\, participants will pitch to a room of investors at the annual Purdue Innovates Startup and Technology Expo. \nBy the end of NVC\, participants will: \n\nCraft a solid value proposition.\nDevelop their go-to-market strategy.\nBuild out a finance model compelling to investors.\n\nAll teams will leave the program with a finalized pitch deck\, executive summary\, and a chance to pitch for cash prizes.
URL:https://purdueinnovates.org/event/new-venture-challenge-workshop-7/2026-02-12/
LOCATION:The Convergence Center for Innovation and Collaboration\, 101 Foundry Dr\, West Lafayette\, IN\, 47906\, United States
CATEGORIES:New Venture Challenge
ORGANIZER;CN="Purdue Innovates Incubator":MAILTO:purdueinnovates@prf.org
END:VEVENT
BEGIN:VEVENT
DTSTART;TZID=America/Indiana/Indianapolis:20260129T180000
DTEND;TZID=America/Indiana/Indianapolis:20260129T200000
DTSTAMP:20260423T044041
CREATED:20260105T183847Z
LAST-MODIFIED:20260105T183847Z
UID:10000059-1769709600-1769716800@purdueinnovates.org
SUMMARY:New Venture Challenge Workshop
DESCRIPTION:The New Venture Challenge (NVC) helps prepare Purdue student startups for market entry and fundraising. At the end of the four-workshop series\, participants will pitch to a room of investors at the annual Purdue Innovates Startup and Technology Expo. \nBy the end of NVC\, participants will: \n\nCraft a solid value proposition.\nDevelop their go-to-market strategy.\nBuild out a finance model compelling to investors.\n\nAll teams will leave the program with a finalized pitch deck\, executive summary\, and a chance to pitch for cash prizes.
URL:https://purdueinnovates.org/event/new-venture-challenge-workshop-7/2026-01-29/
LOCATION:The Convergence Center for Innovation and Collaboration\, 101 Foundry Dr\, West Lafayette\, IN\, 47906\, United States
CATEGORIES:New Venture Challenge
ORGANIZER;CN="Purdue Innovates Incubator":MAILTO:purdueinnovates@prf.org
END:VEVENT
BEGIN:VEVENT
DTSTART;TZID=America/Indiana/Indianapolis:20251211T120000
DTEND;TZID=America/Indiana/Indianapolis:20251211T133000
DTSTAMP:20260423T044041
CREATED:20251117T151401Z
LAST-MODIFIED:20251117T194027Z
UID:10000016-1765454400-1765459800@purdueinnovates.org
SUMMARY:New Venture Challenge Info Session
DESCRIPTION:The New Venture Challenge (NVC) helps prepare Purdue student startups for market entry and fundraising. At the end of the four-workshop series\, participants will pitch to a room of investors at the annual Purdue Innovates Startup and Technology Expo. \nBy the end of NVC\, participants will: \n\nCraft a solid value proposition.\nDevelop their go-to-market strategy.\nBuild out a finance model compelling to investors.\n\nAll teams will leave the program with a finalized pitch deck\, executive summary\, and a chance to pitch for cash prizes.
URL:https://purdueinnovates.org/event/new-venture-challenge-info-session-2/
LOCATION:The Convergence Center for Innovation and Collaboration\, 101 Foundry Dr\, West Lafayette\, IN\, 47906\, United States
CATEGORIES:New Venture Challenge
ORGANIZER;CN="Purdue Innovates Incubator":MAILTO:purdueinnovates@prf.org
END:VEVENT
BEGIN:VEVENT
DTSTART;TZID=America/Indiana/Indianapolis:20251120T120000
DTEND;TZID=America/Indiana/Indianapolis:20251120T133000
DTSTAMP:20260423T044041
CREATED:20251117T151245Z
LAST-MODIFIED:20251117T194027Z
UID:10000015-1763640000-1763645400@purdueinnovates.org
SUMMARY:New Venture Challenge Info Session
DESCRIPTION:The New Venture Challenge (NVC) helps prepare Purdue student startups for market entry and fundraising. At the end of the four-workshop series\, participants will pitch to a room of investors at the annual Purdue Innovates Startup and Technology Expo. \nBy the end of NVC\, participants will: \n\nCraft a solid value proposition.\nDevelop their go-to-market strategy.\nBuild out a finance model compelling to investors.\n\nAll teams will leave the program with a finalized pitch deck\, executive summary\, and a chance to pitch for cash prizes.
URL:https://purdueinnovates.org/event/new-venture-challenge-info-session/
LOCATION:The Convergence Center for Innovation and Collaboration\, 101 Foundry Dr\, West Lafayette\, IN\, 47906\, United States
CATEGORIES:New Venture Challenge
ORGANIZER;CN="Purdue Innovates Incubator":MAILTO:purdueinnovates@prf.org
END:VEVENT
BEGIN:VEVENT
DTSTART;VALUE=DATE:20251117
DTEND;VALUE=DATE:20260114
DTSTAMP:20260423T044041
CREATED:20251029T171851Z
LAST-MODIFIED:20251117T194028Z
UID:10000001-1763337600-1768348799@purdueinnovates.org
SUMMARY:New Venture Challenge Applications Open
DESCRIPTION:The New Venture Challenge (NVC) helps prepare Purdue student startups for market entry and fundraising. At the end of the four-workshop series\, participants will pitch to a room of investors at the annual Purdue Innovates Startup and Technology Expo. \nBy the end of NVC\, participants will: \n\nCraft a solid value proposition.\nDevelop their go-to-market strategy.\nBuild out a finance model compelling to investors.\n\nAll teams will leave the program with a finalized pitch deck\, executive summary\, and a chance to pitch for cash prizes.
URL:https://purdueinnovates.org/event/new-venture-challenge-applications-open/
LOCATION:The Convergence Center for Innovation and Collaboration\, 101 Foundry Dr\, West Lafayette\, IN\, 47906\, United States
CATEGORIES:New Venture Challenge
ORGANIZER;CN="Purdue Innovates Incubator":MAILTO:purdueinnovates@prf.org
END:VEVENT
END:VCALENDAR